BEGIN:VCALENDAR
VERSION:2.0
PRODID:-//Tukios.com/
BEGIN:VEVENT
UID:1dde06f2-4167-48ff-9167-8d31e8a45f25@www.mercadantefuneral.com
DTSTAMP:20260422T021201Z
DTSTART:20260423T164500Z
DTEND:20260423T170000Z
SUMMARY:Burial
DESCRIPTION:
URL:https://www.mercadantefuneral.com/obituaries/yelizaveta-voloshina
LOCATION: 55 Saint Johns Road  Worcester MA 01603
GEO:42.2405608;-71.8247572
END:VEVENT
END:VCALENDAR