BEGIN:VCALENDAR
VERSION:2.0
PRODID:-//Tukios.com/
BEGIN:VEVENT
UID:17123a55-9afd-44aa-a3ec-477dc89c34fb@www.mercadantefuneral.com
DTSTAMP:20260422T021209Z
DTSTART:20260423T160000Z
DTEND:20260423T163000Z
SUMMARY:Funeral Service
DESCRIPTION:
URL:https://www.mercadantefuneral.com/obituaries/yelizaveta-voloshina
LOCATION: 370 Plantation Street  Worcester MA 01605
GEO:42.2792496;-71.7642051
END:VEVENT
END:VCALENDAR