BEGIN:VCALENDAR
VERSION:2.0
PRODID:-//Tukios.com/
BEGIN:VEVENT
UID:cc91bc2d-cb42-47ef-b0f6-9a028c608b77@www.mercadantefuneral.com
DTSTAMP:20260422T021452Z
DTSTART:20260423T150000Z
DTEND:20260423T160000Z
SUMMARY:Visitation
DESCRIPTION:
URL:https://www.mercadantefuneral.com/obituaries/yelizaveta-voloshina
LOCATION: 370 Plantation Street  Worcester MA 01605
GEO:42.2792496;-71.7642051
END:VEVENT
END:VCALENDAR