BEGIN:VCALENDAR
VERSION:2.0
PRODID:-//Tukios.com/
BEGIN:VEVENT
UID:f0dd8cc0-c699-4bd8-b62b-dd1e06fda1e6@www.mercadantefuneral.com
DTSTAMP:20260424T001320Z
DTSTART:20260427T200000Z
DTEND:20260427T230000Z
SUMMARY:Visitation
DESCRIPTION:
URL:https://www.mercadantefuneral.com/obituaries/steven-le
LOCATION:Mercadante Funeral Home & Chapel 370 Plantation Street  
	Worcester MA 01605
GEO:42.2792496;-71.7642051
END:VEVENT
END:VCALENDAR