BEGIN:VCALENDAR
VERSION:2.0
PRODID:-//Tukios.com/
BEGIN:VEVENT
UID:bc5bafba-1cac-47ff-a197-f866e86bd0b4@www.mercadantefuneral.com
DTSTAMP:20260419T203555Z
DTSTART:20260509T140000Z
DTEND:20260509T150000Z
SUMMARY:Mass
DESCRIPTION:
URL:https://www.mercadantefuneral.com/obituaries/robert-parlante
LOCATION: 33 Massasoit Road  Worcester MA 01604
GEO:42.24914;-71.777588
END:VEVENT
END:VCALENDAR