BEGIN:VCALENDAR
VERSION:2.0
PRODID:-//Tukios.com/
BEGIN:VEVENT
UID:0b3c65f6-2637-4f6a-9172-fda1f1521cbf@www.mercadantefuneral.com
DTSTAMP:20260423T190858Z
DTSTART:20260509T180000Z
DTEND:20260509T220000Z
SUMMARY:Memorial Service
DESCRIPTION:
URL:https://www.mercadantefuneral.com/obituaries/michael-ustaitis
LOCATION:American Legion Post 306 885 Pleasant Street  Paxton MA 01612
GEO:42.3185959;-71.9408415
END:VEVENT
END:VCALENDAR