BEGIN:VCALENDAR
VERSION:2.0
PRODID:-//Tukios.com/
BEGIN:VEVENT
UID:683b72ca-4ef5-4cff-b79b-417f67861de5@www.mercadantefuneral.com
DTSTAMP:20260421T192003Z
DTSTART:20260425T160000Z
DTEND:20260425T170000Z
SUMMARY:Mass
DESCRIPTION:
URL:https://www.mercadantefuneral.com/obituaries/mark-marcinkus
LOCATION: 228 Lincoln Street  Worcester MA 01605
GEO:42.2831618;-71.7924088
END:VEVENT
END:VCALENDAR