BEGIN:VCALENDAR
VERSION:2.0
PRODID:-//Tukios.com/
BEGIN:VEVENT
UID:015b733c-3feb-45fc-a3e9-3cb1354487db@www.mercadantefuneral.com
DTSTAMP:20260421T192418Z
DTSTART:20260425T140000Z
DTEND:20260425T153000Z
SUMMARY:Visitation
DESCRIPTION:
URL:https://www.mercadantefuneral.com/obituaries/mark-marcinkus
LOCATION: 370 Plantation Street  Worcester MA 01605
GEO:42.2792496;-71.7642051
END:VEVENT
END:VCALENDAR