BEGIN:VCALENDAR
VERSION:2.0
PRODID:-//Tukios.com/
BEGIN:VEVENT
UID:f247282a-248b-4eea-910c-1949a1749feb@www.mercadantefuneral.com
DTSTAMP:20260422T214714Z
DTSTART:20260430T150000Z
DTEND:20260430T160000Z
SUMMARY:Graveside Service
DESCRIPTION:
URL:https://www.mercadantefuneral.com/obituaries/janice-hurd
LOCATION:Worcester County Memorial Park 217 Richards Avenue  Paxton MA 
	01612
GEO:42.3235643;-71.9319831
END:VEVENT
END:VCALENDAR