BEGIN:VCALENDAR
VERSION:2.0
PRODID:-//Tukios.com/
BEGIN:VEVENT
UID:65e53511-ab45-4585-aa5a-88f45474e9ac@www.mercadantefuneral.com
DTSTAMP:20260425T130641Z
DTSTART:20260429T190000Z
DTEND:20260429T220000Z
SUMMARY:Visitation
DESCRIPTION:
URL:https://www.mercadantefuneral.com/obituaries/gina-lorusso
LOCATION:Mercadante Funeral Home & Chapel 370 Plantation Street  
	Worcester MA 01605
GEO:42.2792496;-71.7642051
END:VEVENT
END:VCALENDAR