BEGIN:VCALENDAR
VERSION:2.0
PRODID:-//Tukios.com/
BEGIN:VEVENT
UID:d36cc6fe-6d13-4c68-8731-3bdc54201d5e@www.mercadantefuneral.com
DTSTAMP:20260423T153019Z
DTSTART:20260428T140000Z
DTEND:20260428T150000Z
SUMMARY:Funeral Service
DESCRIPTION:
URL:https://www.mercadantefuneral.com/obituaries/charolette-stockhaus
LOCATION:Our Lady of Perpetual Help Church 256 Hamilton Street  Worcester 
	MA 01604
GEO:42.2562102;-71.7710168
END:VEVENT
END:VCALENDAR